BEGIN:VCALENDAR
VERSION:2.0
PRODID:-//Welcome to Kristina Coll – Your Guide to Lifestyle &amp; Travel - ECPv6.15.20//NONSGML v1.0//EN
CALSCALE:GREGORIAN
METHOD:PUBLISH
X-WR-CALNAME:Welcome to Kristina Coll – Your Guide to Lifestyle &amp; Travel
X-ORIGINAL-URL:https://kristinacoll.com
X-WR-CALDESC:Events for Welcome to Kristina Coll – Your Guide to Lifestyle &amp; Travel
REFRESH-INTERVAL;VALUE=DURATION:PT1H
X-Robots-Tag:noindex
X-PUBLISHED-TTL:PT1H
BEGIN:VTIMEZONE
TZID:America/Chicago
BEGIN:DAYLIGHT
TZOFFSETFROM:-0600
TZOFFSETTO:-0500
TZNAME:CDT
DTSTART:20240310T080000
END:DAYLIGHT
BEGIN:STANDARD
TZOFFSETFROM:-0500
TZOFFSETTO:-0600
TZNAME:CST
DTSTART:20241103T070000
END:STANDARD
BEGIN:DAYLIGHT
TZOFFSETFROM:-0600
TZOFFSETTO:-0500
TZNAME:CDT
DTSTART:20250309T080000
END:DAYLIGHT
BEGIN:STANDARD
TZOFFSETFROM:-0500
TZOFFSETTO:-0600
TZNAME:CST
DTSTART:20251102T070000
END:STANDARD
BEGIN:DAYLIGHT
TZOFFSETFROM:-0600
TZOFFSETTO:-0500
TZNAME:CDT
DTSTART:20260308T080000
END:DAYLIGHT
BEGIN:STANDARD
TZOFFSETFROM:-0500
TZOFFSETTO:-0600
TZNAME:CST
DTSTART:20261101T070000
END:STANDARD
END:VTIMEZONE
BEGIN:VEVENT
DTSTART;TZID=America/Chicago:20251102T140000
DTEND;TZID=America/Chicago:20251102T160000
DTSTAMP:20260425T064459
CREATED:20251014T204858Z
LAST-MODIFIED:20251014T205412Z
UID:2818-1762092000-1762099200@kristinacoll.com
SUMMARY:Micro Retreat
DESCRIPTION:Join us for an afternoon at Mainframe Studio 108\, Downtown Des Moines for a breathwork and sound bath experience.\nDress comfy\, bring a mat\, water and pillow.  A Zero Gravity Chair is a nice option also and a journal to write any insights down for yourself.\nCeremonial Cacao + Fresh Soup will be served.\nYoga Mats will be available also.
URL:https://kristinacoll.com/event/microretreat/
LOCATION:Mainframe Studio #108\, 900 Keosauqua Way\, Des Moines\, IA\, 50309\, United States
CATEGORIES:Breathwork,Soundbath,Spiritual Retreat
ATTACH;FMTTYPE=image/jpeg:https://kristinacoll.com/wp-content/uploads/2025/10/IMG_6534.jpg
ORGANIZER;CN="Kristina Coll":MAILTO:kristina@kristinacoll.com
END:VEVENT
BEGIN:VEVENT
DTSTART;TZID=America/Chicago:20251011T143000
DTEND;TZID=America/Chicago:20251011T163000
DTSTAMP:20260425T064459
CREATED:20250912T170611Z
LAST-MODIFIED:20250921T162109Z
UID:2784-1760193000-1760200200@kristinacoll.com
SUMMARY:Breathe & Create (click here for details & registration)
DESCRIPTION:Kinetic Connective Breathwork : Step into a powerful space where breath meets brushstroke – where your inner world flows freely onto the canvas.  There will be music and voice to guide you through.   \nBreath+Create is a unique workshop that weaves together the healing force of conscious connected breathwork with large-scale\, intuitive art-making.  As you’re gently guided through a somatic breath journey\, you’ll express your experience using bilateral drawing techniques – activating both sides of the brain and reconnecting with your body’s innate wisdom. \nFacilitated by a Trauma Informed Breathwork Practitioner\, a Multidisciplinary Artist trained in Art Therapy and a Multidimensional Light Language Energy & Sound Channeler; this immersive session invites you to release\, rewire\, and reimagine – using movement\, emotion\, sound\, voice and creation as your guides. \nNo art experience necessary. Just bring your breath\, your body and your curiosity. \nWhat to Bring:  \n\nwear comfy clothing  \nblanket \nwater bottle\njournal and something to write with\nyoga mats are provided\, you can also bring your own\n\nDOORS open 30 minutes before WORKSHOP starts \n Space is limited\, please register today for early bird investment!  HERE
URL:https://kristinacoll.com/event/breatheandcreate-october/
LOCATION:Mainframe Studio #108\, 900 Keosauqua Way\, Des Moines\, IA\, 50309\, United States
CATEGORIES:Breathwork,Spiritual Retreat,Wellness,Workshops
ATTACH;FMTTYPE=image/png:https://kristinacoll.com/wp-content/uploads/2024/09/IMG_1924.png
ORGANIZER;CN="Kristina Coll":MAILTO:kristina@kristinacoll.com
END:VEVENT
BEGIN:VEVENT
DTSTART;TZID=America/Chicago:20251005T190000
DTEND;TZID=America/Chicago:20251005T200000
DTSTAMP:20260425T064459
CREATED:20250928T185918Z
LAST-MODIFIED:20250928T190212Z
UID:2816-1759690800-1759694400@kristinacoll.com
SUMMARY:FREEwill Conscious Connected Breathwork Journey
DESCRIPTION:Allow me to be your personal guide for Breathwork.\n\nWhy Breathwork? \nOften times we stuff BIG feelings in our bellies and bodies.  This may feel like a ‘safe’ response in the moment since it masks an option to really deal with our emotions; Yet doing this can actually be detrimental to our emotional well-being and physical health. \nOne way to connect with and release the emotions\, concepts and beliefs that we have stored in our body and mind is to focus on our breath. By relaxing our bodies fully and turning off the chatter in the mind by focusing on our breath in a quiet meditative state\, we can tap into the genius of our body! \nThe breath guides deep deep wounds to the surface to finally be release in a healthy\, safe way. \n\nRegister to join by clicking on the website listed!  Thank you
URL:https://kristinacoll.com/event/freewill-conscious-connected-breathwork-journey-oct5/
LOCATION:Remote via Zoom
CATEGORIES:Breathwork,Wellness,Workshops
ATTACH;FMTTYPE=image/png:https://kristinacoll.com/wp-content/uploads/2025/09/Spodify-LOGO.png
ORGANIZER;CN="Kristina Coll":MAILTO:kristina@kristinacoll.com
END:VEVENT
BEGIN:VEVENT
DTSTART;TZID=America/Chicago:20250929T160000
DTEND;TZID=America/Chicago:20250929T173000
DTSTAMP:20260425T064459
CREATED:20250928T183604Z
LAST-MODIFIED:20250928T185414Z
UID:2811-1759161600-1759167000@kristinacoll.com
SUMMARY:Monthly Regrouping Call
DESCRIPTION:Every month we join for a monthly regrouping call via zoom.\nThis month it’s tomorrow Monday 29th September 4pm – 5:30pm CST\n\nInvestment in self $44\n\nWhat to expect?\n-a cleansing meditation to set the energy & open the class\n-regroup your experiences and energy from this month\n-regroup your goals (both spiritually and materially)\n-tune into your guidance for clarity & confirmations on forward movement\n-tune into the energy of the next month\n-learn some powerful techniques to utilize on your journey ahead\n-get some clear pitfalls to help guide you away from getting stuck\n-empower yourself for more of what is meant for you\n\nYou can register with the website link provided or Venmo\, Cashapp\, Zelle or Paypal directly
URL:https://kristinacoll.com/event/monthly-regrouping-call/
LOCATION:Remote via Zoom
CATEGORIES:Lectures & Seminars,Wellness,Workshops
ATTACH;FMTTYPE=image/jpeg:https://kristinacoll.com/wp-content/uploads/2019/12/IMG_4283.jpeg
ORGANIZER;CN="Kristina Coll":MAILTO:kristina@kristinacoll.com
END:VEVENT
BEGIN:VEVENT
DTSTART;TZID=America/Chicago:20250928T190000
DTEND;TZID=America/Chicago:20250928T200000
DTSTAMP:20260425T064459
CREATED:20250928T184522Z
LAST-MODIFIED:20250928T184646Z
UID:2814-1759086000-1759089600@kristinacoll.com
SUMMARY:FREEwill Conscious Connected Breathwork Journey
DESCRIPTION:Allow me to be your personal guide for Breathwork.\n\nWhy Breathwork? \nOften times we stuff BIG feelings in our bellies and bodies.  This may feel like a ‘safe’ response in the moment since it masks an option to really deal with our emotions; Yet doing this can actually be detrimental to our emotional well-being and physical health. \nOne way to connect with and release the emotions\, concepts and beliefs that we have stored in our body and mind is to focus on our breath. By relaxing our bodies fully and turning off the chatter in the mind by focusing on our breath in a quiet meditative state\, we can tap into the genius of our body! \nThe breath guides deep deep wounds to the surface to finally be release in a healthy\, safe way. \n\nRegister to join by clicking on the website listed!  Thank you
URL:https://kristinacoll.com/event/freewill-conscious-connected-breathwork-journey/
LOCATION:Remote via Zoom
CATEGORIES:Breathwork,Wellness,Workshops
ATTACH;FMTTYPE=image/png:https://kristinacoll.com/wp-content/uploads/2025/09/Spodify-LOGO.png
ORGANIZER;CN="Kristina Coll":MAILTO:kristina@kristinacoll.com
END:VEVENT
BEGIN:VEVENT
DTSTART;TZID=America/Chicago:20250917T180000
DTEND;TZID=America/Chicago:20250917T200000
DTSTAMP:20260425T064459
CREATED:20250816T145014Z
LAST-MODIFIED:20250912T172257Z
UID:2765-1758132000-1758139200@kristinacoll.com
SUMMARY:Breath & Sound Play Sept 17th
DESCRIPTION:Join us for an evening inside the enchanted conservatory at ‘Iris Aisle’ in Winterset Iowa for a breathwork and sound bath experience.\nDress comfy\, bring a mat\, water and pillow.  A Zero Gravity Chair is a nice option also and a journal to write any insights down for yourself.\nCeremonial Cacao + Fresh Soup will be served.
URL:https://kristinacoll.com/event/breath-sound-play-sept/
LOCATION:Iris Aisle\, 2352 Holliwell Bridge Rd\, Winterset\, IA\, 50273\, United States
CATEGORIES:Breathwork,Soundbath,Spiritual Retreat
ATTACH;FMTTYPE=image/jpeg:https://kristinacoll.com/wp-content/uploads/2025/01/IMG_7626-scaled.jpeg
ORGANIZER;CN="Kristina Coll":MAILTO:kristina@kristinacoll.com
END:VEVENT
BEGIN:VEVENT
DTSTART;TZID=America/Chicago:20250914T190000
DTEND;TZID=America/Chicago:20250914T200000
DTSTAMP:20260425T064459
CREATED:20250912T183628Z
LAST-MODIFIED:20250912T183628Z
UID:2793-1757876400-1757880000@kristinacoll.com
SUMMARY:REMOTE Group Conscious Connected Breathwork
DESCRIPTION:Come explore what Conscious Connected Breathwork can gift you. Through this free group offering remote\, you can join from the comfort of wherever you are! Bring with you a water\, blanket\, journal and something to write with. Be sure you can be in a comfortable space to relax the full body all the way to the top of the head. \nWhy Breathwork? \nOften times we stuff BIG feelings in our bellies and bodies. This may feel like a ‘safe’ response in the moment since it masks an option to really deal with our emotions; Yet doing this can actually be detrimental to our emotional well-being and physical health. \nOne way to connect with and release the emotions\, concepts and beliefs that we have stored in our body and mind is to focus on our breath. By relaxing our bodies fully and turning off the chatter in the mind by focusing on our breath in a quiet meditative state\, we can tap into the genius of our body! \nThe breath guides deep deep wounds to surface and subconscious beliefs and concepts can finally be released in a healthy\, safe way. \nExperience a deep connection to your Breath and your Body. Clear the stored programing that is holding you back in your life purpose and creation.
URL:https://kristinacoll.com/event/remote-group-conscious-connected-breathwork/
CATEGORIES:Breathwork,Wellness,Workshops
ATTACH;FMTTYPE=image/png:https://kristinacoll.com/wp-content/uploads/2025/09/Spodify-LOGO.png
ORGANIZER;CN="Kristina Coll":MAILTO:kristina@kristinacoll.com
END:VEVENT
BEGIN:VEVENT
DTSTART;TZID=America/Chicago:20250823T103000
DTEND;TZID=America/Chicago:20250823T123000
DTSTAMP:20260425T064459
CREATED:20250720T010019Z
LAST-MODIFIED:20250724T145526Z
UID:2747-1755945000-1755952200@kristinacoll.com
SUMMARY:Breathe & Create (click here for details & registration)
DESCRIPTION:Kinetic Connective Breathwork : Step into a powerful space where breath meets brushstroke – where your inner world flows freely onto the canvas.  There will be music and voice to guide you through.   \nBreath+Create is a unique workshop that weaves together the healing force of conscious connected breathwork with large-scale\, intuitive art-making.  As you’re gently guided through a somatic breath journey\, you’ll express your experience using bilateral drawing techniques – activating both sides of the brain and reconnecting with your body’s innate wisdom. \nFacilitated by a Trauma Informed Breathwork Practitioner\, a Multidisciplinary Artist trained in Art Therapy and a Multidimensional Light Language Energy & Sound Channeler; this immersive session invites you to release\, rewire\, and reimagine – using movement\, emotion\, sound\, voice and creation as your guides. \nNo art experience necessary. Just bring your breath\, your body and your curiosity. \nWhat to Bring:  \n\nwear comfy clothing  \nblanket \nwater bottle\njournal and something to write with\nyoga mats are provided\, you can also bring your own\n\nDOORS open 10am WORKSHOP starts promptly at 10:30am \n Space is limited\, please register today for early bird investment!  HERE
URL:https://kristinacoll.com/event/breatheandcreateaugust/
LOCATION:Mainframe Studio #108\, 900 Keosauqua Way\, Des Moines\, IA\, 50309\, United States
CATEGORIES:Breathwork,Wellness,Workshops
ATTACH;FMTTYPE=image/png:https://kristinacoll.com/wp-content/uploads/2024/09/IMG_1924.png
ORGANIZER;CN="Kristina Coll":MAILTO:kristina@kristinacoll.com
END:VEVENT
BEGIN:VEVENT
DTSTART;TZID=America/Chicago:20250704T103000
DTEND;TZID=America/Chicago:20250704T123000
DTSTAMP:20260425T064459
CREATED:20250622T213431Z
LAST-MODIFIED:20250622T213539Z
UID:2740-1751625000-1751632200@kristinacoll.com
SUMMARY:Breathe & Create
DESCRIPTION:Kinetic Connective Breathwork : Step into a powerful space where breath meets brushstroke – where your inner world flows freely onto the canvas.  There will be music and voice to guide you through.   \nBreath+Create is a unique workshop that weaves together the healing force of conscious connected breathwork with large-scale\, intuitive art-making.  As you’re gently guided through a somatic breath journey\, you’ll express your experience using bilateral drawing techniques – activating both sides of the brain and reconnecting with your body’s innate wisdom. \nFacilitated by a Trauma Informed Breathwork Practitioner\, a Multidisciplinary Artist trained in Art Therapy and a Multidimensional Light Language Energy & Sound Channeler; this immersive session invites you to release\, rewire\, and reimagine – using movement\, emotion\, sound\, voice and creation as your guides. \nNo art experience necessary. Just bring your breath\, your body and your curiosity.  Dress in comfy moveable clothing you don’t mind paint getting on\, bring a yoga mat\, water bottle and journal. \nDOORS open 8:30am WORKSHOP starts promptly at 9am \n Space is limited\, please register today for early bird investment!  HERE
URL:https://kristinacoll.com/event/breatheandcreatejuly/
LOCATION:Mainframe Studio #108\, 900 Keosauqua Way\, Des Moines\, IA\, 50309\, United States
CATEGORIES:Breathwork,Wellness,Workshops
ATTACH;FMTTYPE=image/png:https://kristinacoll.com/wp-content/uploads/2024/09/IMG_1924.png
ORGANIZER;CN="Kristina Coll":MAILTO:kristina@kristinacoll.com
END:VEVENT
BEGIN:VEVENT
DTSTART;TZID=America/Chicago:20250528T180000
DTEND;TZID=America/Chicago:20250528T200000
DTSTAMP:20260425T064459
CREATED:20250214T234811Z
LAST-MODIFIED:20250408T181835Z
UID:2660-1748455200-1748462400@kristinacoll.com
SUMMARY:Breath & Sound Play May 28th
DESCRIPTION:Join us for an evening inside the enchanted conservatory at ‘Iris Aisle’ in Winterset Iowa for a breathwork and sound bath experience.\nDress comfy\, bring a mat\, water and pillow.  A Zero Gravity Chair is a nice option also and a journal to write any insights down for yourself.\nCeremonial Cacao + Fresh Soup will be served.
URL:https://kristinacoll.com/event/breath-sound-play-may/
LOCATION:Iris Aisle\, 2352 Holliwell Bridge Rd\, Winterset\, IA\, 50273\, United States
CATEGORIES:Breathwork,Soundbath
ATTACH;FMTTYPE=image/jpeg:https://kristinacoll.com/wp-content/uploads/2025/01/IMG_7626-scaled.jpeg
ORGANIZER;CN="Kristina Coll":MAILTO:kristina@kristinacoll.com
END:VEVENT
BEGIN:VEVENT
DTSTART;TZID=America/Chicago:20250518T143000
DTEND;TZID=America/Chicago:20250518T170000
DTSTAMP:20260425T064459
CREATED:20250517T002557Z
LAST-MODIFIED:20250517T002557Z
UID:2733-1747578600-1747587600@kristinacoll.com
SUMMARY:Inner Child Healing Workshop #4
DESCRIPTION:Inner Child Healing Workshop #4 — \nThis month\, we’re diving deep into re-parenting ourselves — learning how to be the loving\, present\, safe parent we always needed. \nWe’ll explore how to show up for ourselves with more compassion\, understanding\, and unconditional love — especially for the parts of us we’ve hidden away or felt too afraid to let be seen. \nPlus\, we’ll be joined by Kristina for a powerful breathwork session to help release the emotions and memories that are ready to be healed. \nIf you’ve never experienced Kristina’s breathwork\, it’s truly amazing — a beautiful tool for letting go of what’s been held in for far too long and making space for love\, acceptance\, and deep healing. \nThis is about learning to finally love yourself the way you always deserved. \nWe can’t wait to hold this space with you. \n  \ninvestment in self $55 register at event website listed below \n*Venmo @Kristina-Coll (3654) \n*Cash at the door
URL:https://kristinacoll.com/event/inner-child-healing-workshop-4/
LOCATION:Event Center West\, 1701 25th St                \, West Des Moines\, IA\, 50266\, United States
CATEGORIES:Breathwork,Soundbath,Spiritual Retreat,Workshops
ATTACH;FMTTYPE=image/jpeg:https://kristinacoll.com/wp-content/uploads/2025/05/inner-child-wksp-May-.jpg
ORGANIZER;CN="Kristina Coll":MAILTO:kristina@kristinacoll.com
END:VEVENT
BEGIN:VEVENT
DTSTART;TZID=America/Chicago:20250427T083000
DTEND;TZID=America/Chicago:20250427T110000
DTSTAMP:20260425T064459
CREATED:20250408T195157Z
LAST-MODIFIED:20250408T200517Z
UID:2710-1745742600-1745751600@kristinacoll.com
SUMMARY:Breathe & Create
DESCRIPTION:Kinetic Connective Breathwork : Step into a powerful space where breath meets brushstroke – where your inner world flows freely onto the canvas.  There will be music and voice to guide you through.   \nBreath+Create is a unique workshop that weaves together the healing force of conscious connected breathwork with large-scale\, intuitive art-making.  As you’re gently guided through a somatic breath journey\, you’ll express your experience using bilateral drawing techniques – activating both sides of the brain and reconnecting with your body’s innate wisdom. \nFacilitated by a Trauma Informed Breathwork Practitioner\, a Multidisciplinary Artist trained in Art Therapy and a Multidimensional Light Language Energy & Sound Channeler; this immersive session invites you to release\, rewire\, and reimagine – using movement\, emotion\, sound\, voice and creation as your guides. \nNo art experience necessary. Just bring your breath\, your body and your curiosity.  Dress in comfy moveable clothing you don’t mind paint getting on\, bring a yoga mat\, water bottle and journal. \nDOORS open 8:30am WORKSHOP starts promptly at 9am \n Space is limited\, please register today for early bird investment!  HERE
URL:https://kristinacoll.com/event/breatheandcreate/
LOCATION:Mainframe Studio #108\, 900 Keosauqua Way\, Des Moines\, IA\, 50309\, United States
CATEGORIES:Breathwork,Wellness,Workshops
ATTACH;FMTTYPE=image/png:https://kristinacoll.com/wp-content/uploads/2024/09/IMG_1924.png
ORGANIZER;CN="Kristina Coll":MAILTO:kristina@kristinacoll.com
END:VEVENT
BEGIN:VEVENT
DTSTART;TZID=America/Chicago:20250416T180000
DTEND;TZID=America/Chicago:20250416T200000
DTSTAMP:20260425T064459
CREATED:20250213T181814Z
LAST-MODIFIED:20250214T234224Z
UID:2655-1744826400-1744833600@kristinacoll.com
SUMMARY:Breath & Sound Play April 16th
DESCRIPTION:Join us for an evening inside the enchanted conservatory at ‘Iris Aisle’ in Winterset Iowa for a breathwork and sound bath experience.\nDress comfy\, bring a mat\, water and pillow.  A Zero Gravity Chair is a nice option also and a journal to write any insights down for yourself.\nCeremonial Cacao + Fresh Soup will be served.
URL:https://kristinacoll.com/event/breath-sound-play-april/
LOCATION:Iris Aisle\, 2352 Holliwell Bridge Rd\, Winterset\, IA\, 50273\, United States
CATEGORIES:Breathwork,Soundbath
ATTACH;FMTTYPE=image/png:https://kristinacoll.com/wp-content/uploads/2024/12/IMG_3938.png
ORGANIZER;CN="Kristina Coll":MAILTO:kristina@kristinacoll.com
END:VEVENT
BEGIN:VEVENT
DTSTART;TZID=America/Chicago:20250313T143000
DTEND;TZID=America/Chicago:20250313T163000
DTSTAMP:20260425T064459
CREATED:20251207T163654Z
LAST-MODIFIED:20260223T205254Z
UID:2844-1741876200-1741883400@kristinacoll.com
SUMMARY:Mainframe Studios Micro Retreat
DESCRIPTION:Join us for an afternoon at Mainframe Studio 108\, Downtown Des Moines for a breathwork and sound bath experience.\nDress comfy\, bring a mat\, water and pillow.  A Zero Gravity Chair is a nice option also and a journal to write any insights down for yourself.\nCeremonial Cacao + Fresh Soup will be served.\nYoga Mats will be available also.\n\nIf you plan to pay cash\, Venmo or Zelle for this event a registration is still REQUIRED so please use coupon code CASHPAYEE at check out.\n\nPlease register for the event HERE
URL:https://kristinacoll.com/event/mainframestudio-microretreat/
LOCATION:Mainframe Studio #108\, 900 Keosauqua Way\, Des Moines\, IA\, 50309\, United States
CATEGORIES:Breathwork,Soundbath,Spiritual Retreat
ATTACH;FMTTYPE=image/jpeg:https://kristinacoll.com/wp-content/uploads/2025/01/IMG_7627-scaled.jpeg
ORGANIZER;CN="Kristina Coll":MAILTO:kristina@kristinacoll.com
END:VEVENT
BEGIN:VEVENT
DTSTART;TZID=America/Chicago:20250301T140000
DTEND;TZID=America/Chicago:20250301T160000
DTSTAMP:20260425T064459
CREATED:20250129T024345Z
LAST-MODIFIED:20250214T235146Z
UID:2641-1740837600-1740844800@kristinacoll.com
SUMMARY:Breath & Sound Play March 1st
DESCRIPTION:Join us for an exceptional afternoon inside the enchanted conservatory at ‘Iris Aisle’ in Winterset Iowa for a breathwork and sound bath experience.\nDress comfy\, bring a mat\, water and pillow.  A Zero Gravity Chair is a nice option also and a journal to write any insights down for yourself.\nCeremonial Cacao + Fresh Soup will be served.
URL:https://kristinacoll.com/event/breath-sound-play-march/
LOCATION:Iris Aisle\, 2352 Holliwell Bridge Rd\, Winterset\, IA\, 50273\, United States
CATEGORIES:Breathwork,Soundbath
ATTACH;FMTTYPE=image/png:https://kristinacoll.com/wp-content/uploads/2024/09/IMG_3345.png
ORGANIZER;CN="Kristina Coll":MAILTO:kristina@kristinacoll.com
END:VEVENT
BEGIN:VEVENT
DTSTART;TZID=America/Chicago:20250209T140000
DTEND;TZID=America/Chicago:20250209T160000
DTSTAMP:20260425T064459
CREATED:20250129T024132Z
LAST-MODIFIED:20250129T025005Z
UID:2637-1739109600-1739116800@kristinacoll.com
SUMMARY:Breath & Sound Play February
DESCRIPTION:
URL:https://kristinacoll.com/event/breath-sound-play-february/
LOCATION:Iris Aisle\, 2352 Holliwell Bridge Rd\, Winterset\, IA\, 50273\, United States
CATEGORIES:Breathwork,Soundbath
ATTACH;FMTTYPE=image/png:https://kristinacoll.com/wp-content/uploads/2024/12/IMG_2248.png
ORGANIZER;CN="Kristina Coll":MAILTO:kristina@kristinacoll.com
END:VEVENT
END:VCALENDAR