BEGIN:VCALENDAR
VERSION:2.0
PRODID:-//Welcome to Kristina Coll – Your Guide to Lifestyle &amp; Travel - ECPv6.15.20//NONSGML v1.0//EN
CALSCALE:GREGORIAN
METHOD:PUBLISH
X-WR-CALNAME:Welcome to Kristina Coll – Your Guide to Lifestyle &amp; Travel
X-ORIGINAL-URL:https://kristinacoll.com
X-WR-CALDESC:Events for Welcome to Kristina Coll – Your Guide to Lifestyle &amp; Travel
REFRESH-INTERVAL;VALUE=DURATION:PT1H
X-Robots-Tag:noindex
X-PUBLISHED-TTL:PT1H
BEGIN:VTIMEZONE
TZID:America/Chicago
BEGIN:DAYLIGHT
TZOFFSETFROM:-0600
TZOFFSETTO:-0500
TZNAME:CDT
DTSTART:20250309T080000
END:DAYLIGHT
BEGIN:STANDARD
TZOFFSETFROM:-0500
TZOFFSETTO:-0600
TZNAME:CST
DTSTART:20251102T070000
END:STANDARD
BEGIN:DAYLIGHT
TZOFFSETFROM:-0600
TZOFFSETTO:-0500
TZNAME:CDT
DTSTART:20260308T080000
END:DAYLIGHT
BEGIN:STANDARD
TZOFFSETFROM:-0500
TZOFFSETTO:-0600
TZNAME:CST
DTSTART:20261101T070000
END:STANDARD
BEGIN:DAYLIGHT
TZOFFSETFROM:-0600
TZOFFSETTO:-0500
TZNAME:CDT
DTSTART:20270314T080000
END:DAYLIGHT
BEGIN:STANDARD
TZOFFSETFROM:-0500
TZOFFSETTO:-0600
TZNAME:CST
DTSTART:20271107T070000
END:STANDARD
END:VTIMEZONE
BEGIN:VEVENT
DTSTART;TZID=America/Chicago:20260610T173000
DTEND;TZID=America/Chicago:20260610T200000
DTSTAMP:20260425T064459
CREATED:20260316T180656Z
LAST-MODIFIED:20260316T184709Z
UID:2884-1781112600-1781121600@kristinacoll.com
SUMMARY:Micro Retreat Iris Aisle
DESCRIPTION:Join us for an exceptional Micro Retreat in the whimsical Iris Aisle nestled out in the country side of Winterset Iowa.\nExperience includes: opening circle with Ceremonial Cacao\, Conscious Connected Breathwork\, Light Language\, Sound Bath Healing and closing integrations circle with warm fresh soup.\n\nDress comfy\, bring a mat\, water and pillow.  A Zero Gravity Chair is a nice option also and a journal to write any insights down for yourself.\nCeremonial Cacao + Fresh Soup will be served.\nYoga Mats will be available also.\n\nIf you plan to pay cash\, Venmo or Zelle for this event a registration is still REQUIRED so please use coupon code CASHPAYEE at check out by using the registration link below.\n\nPlease register for the event HERE
URL:https://kristinacoll.com/event/micro-retreat-iris-aisle/
LOCATION:Iris Aisle\, 2352 Holliwell Bridge Rd\, Winterset\, IA\, 50273\, United States
CATEGORIES:Breathwork,Soundbath,Spiritual Retreat
ATTACH;FMTTYPE=image/jpeg:https://kristinacoll.com/wp-content/uploads/2025/01/IMG_7627-scaled.jpeg
ORGANIZER;CN="Kristina Coll":MAILTO:kristina@kristinacoll.com
END:VEVENT
END:VCALENDAR