BEGIN:VCALENDAR
VERSION:2.0
PRODID:-//Welcome to Kristina Coll – Your Guide to Lifestyle &amp; Travel - ECPv6.15.20//NONSGML v1.0//EN
CALSCALE:GREGORIAN
METHOD:PUBLISH
X-ORIGINAL-URL:https://kristinacoll.com
X-WR-CALDESC:Events for Welcome to Kristina Coll – Your Guide to Lifestyle &amp; Travel
REFRESH-INTERVAL;VALUE=DURATION:PT1H
X-Robots-Tag:noindex
X-PUBLISHED-TTL:PT1H
BEGIN:VTIMEZONE
TZID:America/Chicago
BEGIN:DAYLIGHT
TZOFFSETFROM:-0600
TZOFFSETTO:-0500
TZNAME:CDT
DTSTART:20250309T080000
END:DAYLIGHT
BEGIN:STANDARD
TZOFFSETFROM:-0500
TZOFFSETTO:-0600
TZNAME:CST
DTSTART:20251102T070000
END:STANDARD
BEGIN:DAYLIGHT
TZOFFSETFROM:-0600
TZOFFSETTO:-0500
TZNAME:CDT
DTSTART:20260308T080000
END:DAYLIGHT
BEGIN:STANDARD
TZOFFSETFROM:-0500
TZOFFSETTO:-0600
TZNAME:CST
DTSTART:20261101T070000
END:STANDARD
BEGIN:DAYLIGHT
TZOFFSETFROM:-0600
TZOFFSETTO:-0500
TZNAME:CDT
DTSTART:20270314T080000
END:DAYLIGHT
BEGIN:STANDARD
TZOFFSETFROM:-0500
TZOFFSETTO:-0600
TZNAME:CST
DTSTART:20271107T070000
END:STANDARD
END:VTIMEZONE
BEGIN:VEVENT
DTSTART;TZID=America/Chicago:20260503T190000
DTEND;TZID=America/Chicago:20260503T200000
DTSTAMP:20260424T115607
CREATED:20260418T125321Z
LAST-MODIFIED:20260418T125718Z
UID:2934-1777834800-1777838400@kristinacoll.com
SUMMARY:REMOTE Sunday Conscious Connected Breathwork
DESCRIPTION:This FREEwill gifting offering is JUST FOR YOU \nCome explore what Conscious Connected Breathwork can gift you. Through this free group offering remote\, you can join from the comfort of wherever you are! Bring with you a water\, blanket\, journal and something to write with. Be sure you can be in a comfortable space to relax the full body all the way to the top of the head. \nWhy Breathwork? \nOften times we stuff BIG feelings in our bellies and bodies. This may feel like a ‘safe’ response in the moment since it masks an option to really deal with our emotions; Yet doing this can actually be detrimental to our emotional well-being and physical health. \nOne way to connect with and release the emotions\, concepts and beliefs that we have stored in our body and mind is to focus on our breath. By relaxing our bodies fully and turning off the chatter in the mind by focusing on our breath in a quiet meditative state\, we can tap into the genius of our body! \nThe breath guides deep deep wounds to surface and subconscious beliefs and concepts can finally be released in a healthy\, safe way. \nExperience a deep connection to your Breath and your Body. Clear the stored programing that is holding you back in your life purpose and creation. \nREGISTRATION IS REQUIRE TO RECEIVE ZOOM LINK TO JOIN: HERE
URL:https://kristinacoll.com/event/remote-sunday-ccb/
LOCATION:Zoom ONLINE
CATEGORIES:Breathwork
ATTACH;FMTTYPE=image/png:https://kristinacoll.com/wp-content/uploads/2024/03/Rose-Gold-Luxury-Initial-Circle-Logo.png
ORGANIZER;CN="Kristina Coll":MAILTO:kristina@kristinacoll.com
END:VEVENT
BEGIN:VEVENT
DTSTART;TZID=America/Chicago:20260510T190000
DTEND;TZID=America/Chicago:20260510T200000
DTSTAMP:20260424T115607
CREATED:20260418T130200Z
LAST-MODIFIED:20260418T130238Z
UID:2939-1778439600-1778443200@kristinacoll.com
SUMMARY:REMOTE Sunday Circular Breathwork
DESCRIPTION:This FREEwill gifting offering is JUST FOR YOU \nCome explore what Conscious Connected Breathwork can gift you. Through this free group offering remote\, you can join from the comfort of wherever you are! Bring with you a water\, blanket\, journal and something to write with. Be sure you can be in a comfortable space to relax the full body all the way to the top of the head. \nWhy Breathwork? \nOften times we stuff BIG feelings in our bellies and bodies. This may feel like a ‘safe’ response in the moment since it masks an option to really deal with our emotions; Yet doing this can actually be detrimental to our emotional well-being and physical health. \nOne way to connect with and release the emotions\, concepts and beliefs that we have stored in our body and mind is to focus on our breath. By relaxing our bodies fully and turning off the chatter in the mind by focusing on our breath in a quiet meditative state\, we can tap into the genius of our body! \nThe breath guides deep deep wounds to surface and subconscious beliefs and concepts can finally be released in a healthy\, safe way. \nExperience a deep connection to your Breath and your Body. Clear the stored programing that is holding you back in your life purpose and creation. \nREGISTRATION IS REQUIRE TO RECEIVE ZOOM LINK TO JOIN: HERE
URL:https://kristinacoll.com/event/remote-ccb/
LOCATION:Zoom ONLINE
CATEGORIES:Breathwork
ATTACH;FMTTYPE=image/png:https://kristinacoll.com/wp-content/uploads/2024/03/Rose-Gold-Luxury-Initial-Circle-Logo.png
ORGANIZER;CN="Kristina Coll":MAILTO:kristina@kristinacoll.com
END:VEVENT
BEGIN:VEVENT
DTSTART;TZID=America/Chicago:20260517T190000
DTEND;TZID=America/Chicago:20260517T200000
DTSTAMP:20260424T115607
CREATED:20260418T125800Z
LAST-MODIFIED:20260418T131440Z
UID:2936-1779044400-1779048000@kristinacoll.com
SUMMARY:Sunday Remote Group Breathwork
DESCRIPTION:This FREEwill gifting offering is JUST FOR YOU \nCome explore what Conscious Connected Breathwork can gift you. Through this free group offering remote\, you can join from the comfort of wherever you are! Bring with you a water\, blanket\, journal and something to write with. Be sure you can be in a comfortable space to relax the full body all the way to the top of the head. \nWhy Breathwork? \nOften times we stuff BIG feelings in our bellies and bodies. This may feel like a ‘safe’ response in the moment since it masks an option to really deal with our emotions; Yet doing this can actually be detrimental to our emotional well-being and physical health. \nOne way to connect with and release the emotions\, concepts and beliefs that we have stored in our body and mind is to focus on our breath. By relaxing our bodies fully and turning off the chatter in the mind by focusing on our breath in a quiet meditative state\, we can tap into the genius of our body! \nThe breath guides deep deep wounds to surface and subconscious beliefs and concepts can finally be released in a healthy\, safe way. \nExperience a deep connection to your Breath and your Body. Clear the stored programing that is holding you back in your life purpose and creation. \nREGISTRATION IS REQUIRE TO RECEIVE ZOOM LINK TO JOIN: HERE
URL:https://kristinacoll.com/event/sun-remote-ccb/
LOCATION:Zoom ONLINE
CATEGORIES:Breathwork
ATTACH;FMTTYPE=image/png:https://kristinacoll.com/wp-content/uploads/2024/03/Rose-Gold-Luxury-Initial-Circle-Logo.png
ORGANIZER;CN="Kristina Coll":MAILTO:kristina@kristinacoll.com
END:VEVENT
BEGIN:VEVENT
DTSTART;TZID=America/Chicago:20260524T190000
DTEND;TZID=America/Chicago:20260524T200000
DTSTAMP:20260424T115607
CREATED:20260418T131446Z
LAST-MODIFIED:20260418T132527Z
UID:2942-1779649200-1779652800@kristinacoll.com
SUMMARY:Remote Group Breathwork
DESCRIPTION:This FREEwill gifting offering is JUST FOR YOU \nCome explore what Conscious Connected Breathwork can gift you. Through this free group offering remote\, you can join from the comfort of wherever you are! Bring with you a water\, blanket\, journal and something to write with. Be sure you can be in a comfortable space to relax the full body all the way to the top of the head. \nWhy Breathwork? \nOften times we stuff BIG feelings in our bellies and bodies. This may feel like a ‘safe’ response in the moment since it masks an option to really deal with our emotions; Yet doing this can actually be detrimental to our emotional well-being and physical health. \nOne way to connect with and release the emotions\, concepts and beliefs that we have stored in our body and mind is to focus on our breath. By relaxing our bodies fully and turning off the chatter in the mind by focusing on our breath in a quiet meditative state\, we can tap into the genius of our body! \nThe breath guides deep deep wounds to surface and subconscious beliefs and concepts can finally be released in a healthy\, safe way. \nExperience a deep connection to your Breath and your Body. Clear the stored programing that is holding you back in your life purpose and creation. \nREGISTRATION IS REQUIRE TO RECEIVE ZOOM LINK TO JOIN: HERE
URL:https://kristinacoll.com/event/remote-group-ccb/
LOCATION:Zoom ONLINE
CATEGORIES:Breathwork
ATTACH;FMTTYPE=image/png:https://kristinacoll.com/wp-content/uploads/2024/03/Rose-Gold-Luxury-Initial-Circle-Logo.png
ORGANIZER;CN="Kristina Coll":MAILTO:kristina@kristinacoll.com
END:VEVENT
BEGIN:VEVENT
DTSTART;TZID=America/Chicago:20260527T183000
DTEND;TZID=America/Chicago:20260527T200000
DTSTAMP:20260424T115607
CREATED:20260418T124746Z
LAST-MODIFIED:20260418T124845Z
UID:2928-1779906600-1779912000@kristinacoll.com
SUMMARY:May Monthly Regrouping Call
DESCRIPTION:Every month we join for a monthly regrouping call via zoom.\nThe 27th 6:30pm-8pm CST this month\n\nInvestment in self $44\n\nWhat to expect?\n-a cleansing meditation to set the energy & open the class\n-regroup your experiences and energy from this month\n-regroup your goals (both spiritually and materially)\n-tune into your guidance for clarity & confirmations on forward movement\n-tune into the energy of the next month\n-learn some powerful techniques to utilize on your journey ahead\n-get some clear pitfalls to help guide you away from getting stuck\n-empower yourself for more of what is meant for you\n\nREGISTRATION is REQUIRED\n\npaying with Venmo\, Cashapp\, Zelle or Paypal directly please be sure to use coupon code : CASHPAYEE at checkout
URL:https://kristinacoll.com/event/may-monthly-regrouping-call/
LOCATION:Zoom ONLINE
CATEGORIES:Lectures & Seminars,Webinar,Wellness,Workshops
ATTACH;FMTTYPE=image/jpeg:https://kristinacoll.com/wp-content/uploads/2019/12/IMG_4283.jpeg
ORGANIZER;CN="Kristina Coll":MAILTO:kristina@kristinacoll.com
END:VEVENT
BEGIN:VEVENT
DTSTART;TZID=America/Chicago:20260531T190000
DTEND;TZID=America/Chicago:20260531T200000
DTSTAMP:20260424T115607
CREATED:20260418T132553Z
LAST-MODIFIED:20260418T132637Z
UID:2944-1780254000-1780257600@kristinacoll.com
SUMMARY:Group Remote Conscious Connected Breathwork
DESCRIPTION:This FREEwill gifting offering is JUST FOR YOU \nCome explore what Conscious Connected Breathwork can gift you. Through this free group offering remote\, you can join from the comfort of wherever you are! Bring with you a water\, blanket\, journal and something to write with. Be sure you can be in a comfortable space to relax the full body all the way to the top of the head. \nWhy Breathwork? \nOften times we stuff BIG feelings in our bellies and bodies. This may feel like a ‘safe’ response in the moment since it masks an option to really deal with our emotions; Yet doing this can actually be detrimental to our emotional well-being and physical health. \nOne way to connect with and release the emotions\, concepts and beliefs that we have stored in our body and mind is to focus on our breath. By relaxing our bodies fully and turning off the chatter in the mind by focusing on our breath in a quiet meditative state\, we can tap into the genius of our body! \nThe breath guides deep deep wounds to surface and subconscious beliefs and concepts can finally be released in a healthy\, safe way. \nExperience a deep connection to your Breath and your Body. Clear the stored programing that is holding you back in your life purpose and creation. \nREGISTRATION IS REQUIRE TO RECEIVE ZOOM LINK TO JOIN: HERE
URL:https://kristinacoll.com/event/group-remote-breathwork/
LOCATION:Zoom ONLINE
CATEGORIES:Breathwork
ATTACH;FMTTYPE=image/png:https://kristinacoll.com/wp-content/uploads/2024/03/Rose-Gold-Luxury-Initial-Circle-Logo.png
ORGANIZER;CN="Kristina Coll":MAILTO:kristina@kristinacoll.com
END:VEVENT
END:VCALENDAR